0.203206975749
0.000000000000
0.000000000000
-0.203200406608
5531016.532829536125
5676505.786203211173
